BEGIN:VCALENDAR
VERSION:2.0
PRODID:-//Track King Nuts - ECPv5.7.1//NONSGML v1.0//EN
CALSCALE:GREGORIAN
METHOD:PUBLISH
X-WR-CALNAME:Track King Nuts
X-ORIGINAL-URL:https://tk.revolutions.co.za
X-WR-CALDESC:Events for Track King Nuts
BEGIN:VTIMEZONE
TZID:UTC
BEGIN:STANDARD
TZOFFSETFROM:+0000
TZOFFSETTO:+0000
TZNAME:UTC
DTSTART:20160101T000000
END:STANDARD
END:VTIMEZONE
BEGIN:VEVENT
DTSTART;VALUE=DATE:20160113
DTEND;VALUE=DATE:20160124
DTSTAMP:20260422T053853
CREATED:20160113T053405Z
LAST-MODIFIED:20160113T053405Z
UID:758-1452643200-1453593599@tk.revolutions.co.za
SUMMARY:The Epsom Derby Stakes
DESCRIPTION:  \nThe Epsom Derby Stakes is considered one of the most prestigious flat thoroughbred horse races in the world\, and you are invited to take up the challenge to win the coveted trophy. \nAn epic race for 3 year olds\, run over the historic distance of 2\,423 metres\, the Epsom Derby will be run towards the end of each Track King season. Three trial races over 2250m will produce the qualifiers for the big race the following weekend. A stepping stone perhaps for future TK Open glory\, or an opportunity to show that you can bring out the best in your young thoroughbreds? Buy an invitation now and prove your mettle. Invitations cost $25k\,\, as well as stakes payable to enter each race. \nThis Cup is always run at London Bridge Racetrack
URL:https://tk.revolutions.co.za/event/the-epsom-derby-stakes/
CATEGORIES:Track King Cups
END:VEVENT
END:VCALENDAR