BEGIN:VCALENDAR
VERSION:2.0
PRODID:-//Track King Nuts - ECPv5.7.1//NONSGML v1.0//EN
CALSCALE:GREGORIAN
METHOD:PUBLISH
X-WR-CALNAME:Track King Nuts
X-ORIGINAL-URL:https://tk.revolutions.co.za
X-WR-CALDESC:Events for Track King Nuts
BEGIN:VTIMEZONE
TZID:UTC
BEGIN:STANDARD
TZOFFSETFROM:+0000
TZOFFSETTO:+0000
TZNAME:UTC
DTSTART:20150101T000000
END:STANDARD
END:VTIMEZONE
BEGIN:VEVENT
DTSTART;VALUE=DATE:20151226
DTEND;VALUE=DATE:20151227
DTSTAMP:20260417T102234
CREATED:20151215T233612Z
LAST-MODIFIED:20151215T233612Z
UID:41-1451088000-1451174399@tk.revolutions.co.za
SUMMARY:The Emerald Shoe
DESCRIPTION:The Emerald Shoe is a special event for thoroughbred 5 year old horses to test their mettle over
URL:https://tk.revolutions.co.za/event/the-emerald-shoe/
LOCATION:River Nile
END:VEVENT
END:VCALENDAR